View In:
ArcGIS JavaScript
ArcGIS Online Map Viewer
ArcGIS Earth
ArcGIS Pro
Service Description: Cuyahoga County Greenprint: Steep Slope Areas
Map Name: GREENPRINT_SlopeRaster
Legend
All Layers and Tables
Dynamic Legend
Dynamic All Layers
Layers:
Description: Cuyahoga County Greenprint: Steep Slope Areas
Service Item Id: 526b7d2a10d84c1c8c587d53954637be
Copyright Text: Cuyahoga County Planning Commission, from Ohio Statewide Imagery Program Digital Elevation Model, 2006.
Spatial Reference:
102100
(3857)
Single Fused Map Cache: true
Tile Info:
- Height: 256.0
- Width: 256.0
- DPI: 96.0
-
Levels of Detail: 9
-
Level ID: 0
[ Start Tile, End Tile ]
- Resolution: 76.437028285073239
- Scale: 288895.27714399999
-
Level ID: 2
[ Start Tile, End Tile ]
- Resolution: 19.10925707126831
- Scale: 72223.819285999998
-
Level ID: 3
[ Start Tile, End Tile ]
- Resolution: 9.5546285356341549
- Scale: 36111.909642999999
-
Level ID: 5
[ Start Tile, End Tile ]
- Resolution: 2.3886571339746849
- Scale: 9027.9774109999998
-
Level ID: 6
[ Start Tile, End Tile ]
- Resolution: 1.1943285668550503
- Scale: 4513.9887049999998
-
Level ID: 8
[ Start Tile, End Tile ]
- Resolution: 0.29858214164761665
- Scale: 1128.4971760000001
- Format: MIXED
- Compression Quality: 75.0
- Origin: X: -2.0037508342787E7
Y: 2.0037508342787E7
- Spatial Reference: 102100
(3857)
Storage Info:
- Storage Format: esriMapCacheStorageModeCompactV2
- Packet Size: 128
Initial Extent:
XMin: -9090793.638374917
YMin: 5073064.584852046
XMax: -9085321.301688697
YMax: 5077151.0038672695
Spatial Reference: 102100
Full Extent:
XMin: -9126554.964422854
YMin: 5051778.010748565
XMax: -9056947.649208223
YMax: 5111552.45829746
Spatial Reference: 102100
Units: esriMeters
Supported Image Format Types: PNG32,PNG24,PNG,JPG,DIB,TIFF,EMF,PS,PDF,GIF,SVG,SVGZ,BMP
Document Info:
Title: GREENPRINT_SlopeRaster
Author:
Comments: Cuyahoga County Greenprint: Steep Slope Areas
Subject: A graphic representation of slope.
Category:
Keywords: Slope
AntialiasingMode: Fast
TextAntialiasingMode: Normal
Supports Dynamic Layers: true
MaxRecordCount: 2000
MaxSelectionCount: 2000
MaxImageHeight: 4096
MaxImageWidth: 4096
Supported Query Formats: JSON, geoJSON, PBF
Supports Query Data Elements: true
Min Scale: 288895.27714399999
Max Scale: 1128.4971760000001
Supports Datum Transformation: true
Child Resources:
Info
Dynamic Layer
Supported Operations:
Export Map
Identify
QueryLegends
QueryDomains
Find
Return Updates