{
 "maxImageWidth": 4096,
 "maxRecordCount": 2000,
 "tileInfo": {
  "lods": [
   {
    "level": 0,
    "scale": 577790.55428899999,
    "resolution": 152.87405657041106
   },
   {
    "level": 1,
    "scale": 288895.27714399999,
    "resolution": 76.437028285073239
   },
   {
    "level": 2,
    "scale": 144447.638572,
    "resolution": 38.21851414253662
   },
   {
    "level": 3,
    "scale": 72223.819285999998,
    "resolution": 19.10925707126831
   },
   {
    "level": 4,
    "scale": 36111.909642999999,
    "resolution": 9.5546285356341549
   },
   {
    "level": 5,
    "scale": 18055.954822,
    "resolution": 4.7773142679493699
   },
   {
    "level": 6,
    "scale": 9027.9774109999998,
    "resolution": 2.3886571339746849
   },
   {
    "level": 7,
    "scale": 4513.9887049999998,
    "resolution": 1.1943285668550503
   },
   {
    "level": 8,
    "scale": 2256.994353,
    "resolution": 0.59716428355981721
   },
   {
    "level": 9,
    "scale": 1128.4971760000001,
    "resolution": 0.29858214164761665
   },
   {
    "level": 10,
    "scale": 564.24858800000004,
    "resolution": 0.14929107082380833
   },
   {
    "level": 11,
    "scale": 282.12429400000002,
    "resolution": 0.074645535411904163
   }
  ],
  "origin": {
   "x": -20037508.342787001,
   "y": 20037508.342787001
  },
  "format": "MIXED",
  "compressionQuality": 75,
  "rows": 256,
  "dpi": 96,
  "spatialReference": {
   "falseM": -100000,
   "xyTolerance": 0.001,
   "mUnits": 10000,
   "zUnits": 10000,
   "latestWkid": 3857,
   "zTolerance": 0.001,
   "wkid": 102100,
   "xyUnits": 10000,
   "mTolerance": 0.001,
   "falseX": -20037700,
   "falseY": -30241100,
   "falseZ": -100000
  },
  "cols": 256
 },
 "datesInUnknownTimezone": false,
 "supportsQueryDomains": true,
 "maxSelectionCount": 2000,
 "supportedImageFormatTypes": "PNG32,PNG24,PNG,JPG,DIB,TIFF,EMF,PS,PDF,GIF,SVG,SVGZ,BMP",
 "spatialReferenceType": "pcs",
 "maxImageHeight": 4096,
 "tables": [],
 "cimVersion": "3.7.0",
 "layers": [
  {
   "subLayerIds": [
    1
   ],
   "maxScale": 288800,
   "name": "288895COUNTYANNO",
   "defaultVisibility": true,
   "id": 0,
   "minScale": 288900,
   "supportsDynamicLegends": false,
   "type": "Annotation Layer",
   "parentLayerId": -1,
   "geometryType": "esriGeometryPolygon"
  },
  {
   "subLayerIds": null,
   "maxScale": 0,
   "name": "Annotation Class 1",
   "defaultVisibility": true,
   "id": 1,
   "minScale": 0,
   "supportsDynamicLegends": false,
   "parentLayerId": 0
  },
  {
   "subLayerIds": [
    3
   ],
   "maxScale": 577700,
   "name": "577790COUNTYANNO",
   "defaultVisibility": true,
   "id": 2,
   "minScale": 1000000,
   "supportsDynamicLegends": false,
   "type": "Annotation Layer",
   "parentLayerId": -1,
   "geometryType": "esriGeometryPolygon"
  },
  {
   "subLayerIds": null,
   "maxScale": 0,
   "name": "Annotation Class 1",
   "defaultVisibility": true,
   "id": 3,
   "minScale": 0,
   "supportsDynamicLegends": false,
   "parentLayerId": 2
  },
  {
   "subLayerIds": null,
   "maxScale": 145000,
   "name": "COUNTY",
   "defaultVisibility": true,
   "id": 4,
   "minScale": 0,
   "supportsDynamicLegends": true,
   "type": "Feature Layer",
   "parentLayerId": -1,
   "geometryType": "esriGeometryPolygon"
  },
  {
   "subLayerIds": [
    6
   ],
   "maxScale": 144447,
   "name": "577791-144447",
   "defaultVisibility": true,
   "id": 5,
   "minScale": 578000,
   "supportsDynamicLegends": false,
   "type": "Group Layer",
   "parentLayerId": -1
  },
  {
   "subLayerIds": null,
   "maxScale": 0,
   "name": "MUNICIPALITY",
   "defaultVisibility": true,
   "id": 6,
   "minScale": 300000,
   "supportsDynamicLegends": true,
   "type": "Feature Layer",
   "parentLayerId": 5,
   "geometryType": "esriGeometryPolygon"
  },
  {
   "subLayerIds": [
    8
   ],
   "maxScale": 18055,
   "name": "144446-18055",
   "defaultVisibility": true,
   "id": 7,
   "minScale": 144446,
   "supportsDynamicLegends": false,
   "type": "Group Layer",
   "parentLayerId": -1
  },
  {
   "subLayerIds": null,
   "maxScale": 0,
   "name": "MUNICIPALITY",
   "defaultVisibility": true,
   "id": 8,
   "minScale": 0,
   "supportsDynamicLegends": true,
   "type": "Feature Layer",
   "parentLayerId": 7,
   "geometryType": "esriGeometryPolygon"
  },
  {
   "subLayerIds": [
    10,
    11,
    12,
    13,
    14,
    15
   ],
   "maxScale": 0,
   "name": "Roads by Jurisdiction",
   "defaultVisibility": true,
   "id": 9,
   "minScale": 9028,
   "supportsDynamicLegends": false,
   "type": "Group Layer",
   "parentLayerId": -1
  },
  {
   "subLayerIds": null,
   "maxScale": 0,
   "name": "Interstate",
   "defaultVisibility": true,
   "id": 10,
   "minScale": 0,
   "supportsDynamicLegends": true,
   "type": "Feature Layer",
   "parentLayerId": 9,
   "geometryType": "esriGeometryPolyline"
  },
  {
   "subLayerIds": null,
   "maxScale": 0,
   "name": "US Route",
   "defaultVisibility": true,
   "id": 11,
   "minScale": 72226,
   "supportsDynamicLegends": true,
   "type": "Feature Layer",
   "parentLayerId": 9,
   "geometryType": "esriGeometryPolyline"
  },
  {
   "subLayerIds": null,
   "maxScale": 0,
   "name": "State Route",
   "defaultVisibility": true,
   "id": 12,
   "minScale": 72226,
   "supportsDynamicLegends": true,
   "type": "Feature Layer",
   "parentLayerId": 9,
   "geometryType": "esriGeometryPolyline"
  },
  {
   "subLayerIds": null,
   "maxScale": 0,
   "name": "County Road",
   "defaultVisibility": true,
   "id": 13,
   "minScale": 18058,
   "supportsDynamicLegends": true,
   "type": "Feature Layer",
   "parentLayerId": 9,
   "geometryType": "esriGeometryPolyline"
  },
  {
   "subLayerIds": null,
   "maxScale": 0,
   "name": "Municipal Street",
   "defaultVisibility": true,
   "id": 14,
   "minScale": 9030,
   "supportsDynamicLegends": true,
   "type": "Feature Layer",
   "parentLayerId": 9,
   "geometryType": "esriGeometryPolyline"
  },
  {
   "subLayerIds": null,
   "maxScale": 0,
   "name": "Ramp",
   "defaultVisibility": true,
   "id": 15,
   "minScale": 9030,
   "supportsDynamicLegends": true,
   "type": "Feature Layer",
   "parentLayerId": 9,
   "geometryType": "esriGeometryPolyline"
  },
  {
   "subLayerIds": [
    17,
    18,
    19,
    20,
    21,
    22
   ],
   "maxScale": 0,
   "name": "All Parcels",
   "defaultVisibility": true,
   "id": 16,
   "minScale": 5000,
   "supportsDynamicLegends": false,
   "type": "Group Layer",
   "parentLayerId": -1
  },
  {
   "subLayerIds": null,
   "maxScale": 0,
   "name": "Non-Land Survey Parcels",
   "defaultVisibility": true,
   "id": 17,
   "minScale": 5000,
   "supportsDynamicLegends": true,
   "type": "Feature Layer",
   "parentLayerId": 16,
   "geometryType": "esriGeometryPolygon"
  },
  {
   "subLayerIds": null,
   "maxScale": 0,
   "name": "Manufactured Homes",
   "defaultVisibility": true,
   "id": 18,
   "minScale": 5000,
   "supportsDynamicLegends": true,
   "type": "Feature Layer",
   "parentLayerId": 16,
   "geometryType": "esriGeometryPolygon"
  },
  {
   "subLayerIds": null,
   "maxScale": 0,
   "name": "Parcels",
   "defaultVisibility": true,
   "id": 19,
   "minScale": 5000,
   "supportsDynamicLegends": true,
   "type": "Feature Layer",
   "parentLayerId": 16,
   "geometryType": "esriGeometryPolygon"
  },
  {
   "subLayerIds": null,
   "maxScale": 0,
   "name": "Retired Non-Land Parcels",
   "defaultVisibility": false,
   "id": 20,
   "minScale": 5000,
   "supportsDynamicLegends": true,
   "type": "Feature Layer",
   "parentLayerId": 16,
   "geometryType": "esriGeometryPolygon"
  },
  {
   "subLayerIds": null,
   "maxScale": 0,
   "name": "Retired Manufactured Homes",
   "defaultVisibility": false,
   "id": 21,
   "minScale": 5000,
   "supportsDynamicLegends": true,
   "type": "Feature Layer",
   "parentLayerId": 16,
   "geometryType": "esriGeometryPolygon"
  },
  {
   "subLayerIds": null,
   "maxScale": 0,
   "name": "Retired Parcels",
   "defaultVisibility": false,
   "id": 22,
   "minScale": 5000,
   "supportsDynamicLegends": true,
   "type": "Feature Layer",
   "parentLayerId": 16,
   "geometryType": "esriGeometryPolygon"
  },
  {
   "subLayerIds": [
    24
   ],
   "maxScale": 4515,
   "name": "18054-4515",
   "defaultVisibility": true,
   "id": 23,
   "minScale": 18054,
   "supportsDynamicLegends": false,
   "type": "Group Layer",
   "parentLayerId": -1
  },
  {
   "subLayerIds": null,
   "maxScale": 0,
   "name": "MUNICIPALITY",
   "defaultVisibility": true,
   "id": 24,
   "minScale": 0,
   "supportsDynamicLegends": true,
   "type": "Feature Layer",
   "parentLayerId": 23,
   "geometryType": "esriGeometryPolygon"
  },
  {
   "subLayerIds": null,
   "maxScale": 0,
   "name": "CuyahogaCounty_OH_Nearmap_Spring2026.sid",
   "defaultVisibility": true,
   "id": 25,
   "minScale": 144446,
   "supportsDynamicLegends": true,
   "type": "Raster Layer",
   "parentLayerId": -1
  },
  {
   "subLayerIds": null,
   "maxScale": 0,
   "name": "PeleeIsland",
   "defaultVisibility": true,
   "id": 26,
   "minScale": 0,
   "supportsDynamicLegends": true,
   "type": "Feature Layer",
   "parentLayerId": -1,
   "geometryType": "esriGeometryPolygon"
  },
  {
   "subLayerIds": null,
   "maxScale": 0,
   "name": "county",
   "defaultVisibility": true,
   "id": 27,
   "minScale": 0,
   "supportsDynamicLegends": true,
   "type": "Feature Layer",
   "parentLayerId": -1,
   "geometryType": "esriGeometryPolygon"
  },
  {
   "subLayerIds": null,
   "maxScale": 0,
   "name": "LAKE_ERIE_CLIP",
   "defaultVisibility": true,
   "id": 28,
   "minScale": 0,
   "supportsDynamicLegends": true,
   "type": "Feature Layer",
   "parentLayerId": -1,
   "geometryType": "esriGeometryPolygon"
  },
  {
   "subLayerIds": null,
   "maxScale": 140000,
   "name": "MyPLACERelief",
   "defaultVisibility": true,
   "id": 29,
   "minScale": 0,
   "supportsDynamicLegends": true,
   "type": "Raster Layer",
   "parentLayerId": -1
  }
 ],
 "archivingInfo": {
  "supportsHistoricMoment": false
 },
 "spatialReferenceDomain": {
  "ymin": -30241100,
  "xmin": -20037700,
  "ymax": 900689684374.099,
  "xmax": 900699887774.099
 },
 "spatialReference": {
  "falseM": -100000,
  "xyTolerance": 0.001,
  "mUnits": 10000,
  "zUnits": 10000,
  "latestWkid": 3857,
  "zTolerance": 0.001,
  "wkid": 102100,
  "xyUnits": 10000,
  "mTolerance": 0.001,
  "falseX": -20037700,
  "falseY": -30241100,
  "falseZ": -100000
 },
 "fullExtent": {
  "ymin": 4527767.7925683325,
  "zmin": 0,
  "xmin": -9531716.2688217741,
  "ymax": 5400007.4514707485,
  "zmax": 0.00045891667832620442,
  "xmax": -8482483.7296826467,
  "spatialReference": {
   "cs": "pcs",
   "wkid": 102100
  }
 },
 "currentVersion": 12.1,
 "hasBranchVersionedData": false,
 "referenceScale": 0,
 "supportsSpatialFilter": true,
 "maxLOD": 10,
 "initialExtent": {
  "ymin": 5018184.3391921185,
  "xmin": -9181851.9317358546,
  "ymax": 5140833.7761576585,
  "xmax": -9001395.1541556343,
  "spatialReference": {
   "cs": "pcs",
   "wkid": 102100
  }
 },
 "supportsTimeRelation": true,
 "documentInfo": {
  "Category": "",
  "Keywords": "Cuyahoga,MyPlace",
  "Version": "3.7.0",
  "Comments": "MyPlace main map service",
  "AntialiasingMode": "Fast",
  "Title": "MyPlace Main Map",
  "Author": "",
  "TextAntialiasingMode": "Normal",
  "Subject": "MyPlace main map service"
 },
 "wmtsScaleFactor": 0.00028000000000003521,
 "geoFullExtent": {
  "ymin": 37.633411394263383,
  "zmin": 0,
  "xmin": -85.624864081732966,
  "ymax": 43.575658316171356,
  "zmax": 0.00045891667832620442,
  "xmax": -76.199447816690849
 },
 "description": "MyPlace main map service",
 "units": "esriMeters",
 "supportsClipping": true,
 "exportTilesAllowed": false,
 "hasVersionedData": false,
 "supportsDatumTransformation": true,
 "supportsQueryDataElements": true,
 "mapName": "MyPLACE Consolidated Prod",
 "minScale": 577790.55428899999,
 "tileImageInfo": {
  "bandCount": 1,
  "lercError": 0,
  "format": "MIXED",
  "compressionQuality": 75
 },
 "supportedExtensions": "",
 "serviceItemId": "e7e3f931f923480c920416c9e9f078a9",
 "capabilities": "Map,Query,Data,Tilemap",
 "supportsDynamicLayers": false,
 "maxScale": 564.24858800000004,
 "singleFusedMapCache": true,
 "storageInfo": {
  "storageFormat": "esriMapCacheStorageModeCompactV2",
  "packetSize": 128
 },
 "mapUnits": {
  "uwkid": 9001
 },
 "floorAwareMapProperties": {
  "defaultFloorFilterSettings": {
   "isEnabled": false
  }
 },
 "minLOD": 0,
 "supportedQueryFormats": "JSON, geoJSON, PBF",
 "datumTransformations": [
  {
   "geoTransforms": [
    {
     "latestWkid": 108190,
     "transformForward": false,
     "wkid": 108190,
     "name": "WGS_1984_(ITRF00)_To_NAD_1983"
    }
   ]
  },
  {
   "geoTransforms": [
    {
     "latestWkid": 108190,
     "transformForward": true,
     "wkid": 108190,
     "name": "WGS_1984_(ITRF00)_To_NAD_1983"
    }
   ]
  },
  {
   "geoTransforms": [
    {
     "latestWkid": 108190,
     "transformForward": false,
     "wkid": 108190,
     "name": "WGS_1984_(ITRF00)_To_NAD_1983"
    }
   ]
  }
 ],
 "serviceDescription": "MyPlace main map service",
 "copyrightText": "CEGIS, CCFO",
 "geoInitialExtent": {
  "ymin": 41.039599515948495,
  "xmin": -82.481979268006711,
  "ymax": 41.865369786158219,
  "xmax": -80.860908453774016
 }
}
