{
 "documentInfo": {
  "Category": "",
  "Keywords": "Cuyahoga,Political",
  "Version": "3.7.0",
  "Comments": "Cuyahoga County boundary.",
  "AntialiasingMode": "Fast",
  "Title": "Cuyahoga County",
  "Author": "",
  "TextAntialiasingMode": "Normal",
  "Subject": "Cuyahoga County"
 },
 "maxImageWidth": 4096,
 "wmtsScaleFactor": 0.00028000000000003521,
 "maxRecordCount": 2000,
 "tileInfo": {
  "lods": [
   {
    "level": 0,
    "scale": 577790.55428899999,
    "resolution": 152.87405657041106
   },
   {
    "level": 1,
    "scale": 288895.27714399999,
    "resolution": 76.437028285073239
   },
   {
    "level": 2,
    "scale": 144447.638572,
    "resolution": 38.21851414253662
   },
   {
    "level": 3,
    "scale": 72223.819285999998,
    "resolution": 19.10925707126831
   },
   {
    "level": 4,
    "scale": 36111.909642999999,
    "resolution": 9.5546285356341549
   },
   {
    "level": 5,
    "scale": 18055.954822,
    "resolution": 4.7773142679493699
   },
   {
    "level": 6,
    "scale": 9027.9774109999998,
    "resolution": 2.3886571339746849
   },
   {
    "level": 7,
    "scale": 4513.9887049999998,
    "resolution": 1.1943285668550503
   },
   {
    "level": 8,
    "scale": 2256.994353,
    "resolution": 0.59716428355981721
   },
   {
    "level": 9,
    "scale": 1128.4971760000001,
    "resolution": 0.29858214164761665
   },
   {
    "level": 10,
    "scale": 564.24858800000004,
    "resolution": 0.14929107082380833
   },
   {
    "level": 11,
    "scale": 282.12429400000002,
    "resolution": 0.074645535411904163
   }
  ],
  "origin": {
   "x": -20037508.342787001,
   "y": 20037508.342787001
  },
  "format": "MIXED",
  "compressionQuality": 75,
  "rows": 256,
  "dpi": 96,
  "spatialReference": {
   "falseM": -100000,
   "xyTolerance": 0.001,
   "mUnits": 10000,
   "zUnits": 10000,
   "latestWkid": 3857,
   "zTolerance": 0.001,
   "wkid": 102100,
   "xyUnits": 10000,
   "mTolerance": 0.001,
   "falseX": -20037700,
   "falseY": -30241100,
   "falseZ": -100000
  },
  "cols": 256
 },
 "geoFullExtent": {
  "ymin": 41.271279875638214,
  "xmin": -81.971718061101498,
  "ymax": 41.634874367566958,
  "xmax": -81.371198811974011
 },
 "description": "Cuyahoga County boundary.",
 "datesInUnknownTimezone": false,
 "supportsQueryDomains": true,
 "units": "esriMeters",
 "maxSelectionCount": 2000,
 "supportedImageFormatTypes": "PNG32,PNG24,PNG,JPG,DIB,TIFF,EMF,PS,PDF,GIF,SVG,SVGZ,BMP",
 "supportsClipping": true,
 "spatialReferenceType": "pcs",
 "exportTilesAllowed": false,
 "maxImageHeight": 4096,
 "tables": [],
 "hasVersionedData": false,
 "supportsDatumTransformation": true,
 "cimVersion": "3.7.0",
 "supportsQueryDataElements": true,
 "layers": [
  {
   "subLayerIds": null,
   "maxScale": 0,
   "name": "Cuyahoga County",
   "defaultVisibility": true,
   "id": 0,
   "minScale": 600000,
   "supportsDynamicLegends": true,
   "type": "Feature Layer",
   "parentLayerId": -1,
   "geometryType": "esriGeometryPolygon"
  }
 ],
 "mapName": "County",
 "minScale": 577790.55428899999,
 "archivingInfo": {
  "supportsHistoricMoment": false
 },
 "spatialReferenceDomain": {
  "ymin": -30241100,
  "xmin": -20037700,
  "ymax": 900689684374.099,
  "xmax": 900699887774.099
 },
 "spatialReference": {
  "falseM": -100000,
  "xyTolerance": 0.001,
  "mUnits": 10000,
  "zUnits": 10000,
  "latestWkid": 3857,
  "zTolerance": 0.001,
  "wkid": 102100,
  "xyUnits": 10000,
  "mTolerance": 0.001,
  "falseX": -20037700,
  "falseY": -30241100,
  "falseZ": -100000
 },
 "tileImageInfo": {
  "bandCount": 1,
  "lercError": 0,
  "format": "MIXED",
  "compressionQuality": 75
 },
 "fullExtent": {
  "ymin": 5052438.1054380443,
  "xmin": -9125049.9140116051,
  "ymax": 5106441.3458311772,
  "xmax": -9058200.4169871751,
  "spatialReference": {
   "cs": "pcs",
   "wkid": 102100
  }
 },
 "supportedExtensions": "",
 "serviceItemId": "d8006b76e82b4a0a854d5450739cc068",
 "capabilities": "Map",
 "supportsDynamicLayers": false,
 "maxScale": 282.12429400000002,
 "singleFusedMapCache": true,
 "currentVersion": 12.1,
 "storageInfo": {
  "storageFormat": "esriMapCacheStorageModeCompactV2",
  "packetSize": 128
 },
 "hasBranchVersionedData": false,
 "mapUnits": {
  "uwkid": 9001
 },
 "referenceScale": 0,
 "supportsSpatialFilter": true,
 "supportedQueryFormats": "JSON, geoJSON, PBF",
 "datumTransformations": [
  {
   "geoTransforms": [
    {
     "latestWkid": 108190,
     "transformForward": false,
     "wkid": 108190,
     "name": "WGS_1984_(ITRF00)_To_NAD_1983"
    }
   ]
  },
  {
   "geoTransforms": [
    {
     "latestWkid": 108190,
     "transformForward": true,
     "wkid": 108190,
     "name": "WGS_1984_(ITRF00)_To_NAD_1983"
    }
   ]
  },
  {
   "geoTransforms": [
    {
     "latestWkid": 108190,
     "transformForward": false,
     "wkid": 108190,
     "name": "WGS_1984_(ITRF00)_To_NAD_1983"
    }
   ]
  }
 ],
 "initialExtent": {
  "ymin": 5043869.6878640326,
  "xmin": -9144184.2654842176,
  "ymax": 5115092.8108359678,
  "xmax": -9039392.1394157857,
  "spatialReference": {
   "cs": "pcs",
   "wkid": 102100
  }
 },
 "serviceDescription": "Cuyahoga County boundary.",
 "copyrightText": "CuyahogaGIS",
 "geoInitialExtent": {
  "ymin": 41.213402932587108,
  "xmin": -82.143604864897114,
  "ymax": 41.692933722767798,
  "xmax": -81.202241179870597
 },
 "supportsTimeRelation": true
}
